BEGIN:VCALENDAR
VERSION:2.0
PRODID:-//wp-events-plugin.com//7.2.3.1//EN
BEGIN:VEVENT
UID:50@dehoeksteen-haren.nl
DTSTART;TZID=Europe/Amsterdam:20241006T100000
DTEND;TZID=Europe/Amsterdam:20241006T113000
DTSTAMP:20241003T165129Z
URL:https://dehoeksteen-haren.nl/en/agenda/ochtenddienst-37/
SUMMARY:Ochtenddienst
DESCRIPTION:Voorganger br. Bert Noteboom\, Finsterwolde\n\n
LOCATION:De Hoeksteen - zaal 1/2\, P. Wierengaweg 2\, Haren\, Groningen\, 9
 751 CN\, Netherlands
X-APPLE-STRUCTURED-LOCATION;VALUE=URI;X-ADDRESS=P. Wierengaweg 2\, Haren\, 
 Groningen\, 9751 CN\, Netherlands;X-APPLE-RADIUS=100;X-TITLE=De Hoeksteen 
 - zaal 1/2:geo:0,0
END:VEVENT
BEGIN:VTIMEZONE
TZID:Europe/Amsterdam
X-LIC-LOCATION:Europe/Amsterdam
BEGIN:DAYLIGHT
DTSTART:20240331T030000
TZOFFSETFROM:+0100
TZOFFSETTO:+0200
TZNAME:CEST
END:DAYLIGHT
END:VTIMEZONE
END:VCALENDAR