BEGIN:VCALENDAR
VERSION:2.0
PRODID:-//wp-events-plugin.com//7.2.3.1//EN
BEGIN:VEVENT
UID:36@dehoeksteen-haren.nl
DTSTART;TZID=Europe/Amsterdam:20240707T100000
DTEND;TZID=Europe/Amsterdam:20240707T113000
DTSTAMP:20240701T174826Z
URL:https://dehoeksteen-haren.nl/en/agenda/ochtenddienst-24/
SUMMARY:Ochtenddienst
DESCRIPTION:Let op: De dienst wordt gehouden op het grasveld bij zorgboerde
 rij De Mikkelhorst\n\nVoorganger ds. Rik Bikker\n\n&nbsp\;\n\n&nbsp\;
END:VEVENT
BEGIN:VTIMEZONE
TZID:Europe/Amsterdam
X-LIC-LOCATION:Europe/Amsterdam
BEGIN:DAYLIGHT
DTSTART:20240331T030000
TZOFFSETFROM:+0100
TZOFFSETTO:+0200
TZNAME:CEST
END:DAYLIGHT
END:VTIMEZONE
END:VCALENDAR