BEGIN:VCALENDAR
VERSION:2.0
PRODID:-//wp-events-plugin.com//7.2.3.1//EN
BEGIN:VEVENT
UID:746@dehoeksteen-haren.nl
DTSTART;TZID=Europe/Amsterdam:20260209T130000
DTEND;TZID=Europe/Amsterdam:20260209T143000
DTSTAMP:20260205T181611Z
URL:https://dehoeksteen-haren.nl/en/agenda/dankdienst-dick-houwen/
SUMMARY:Dankdienst voor het leven van Dick Houwen
DESCRIPTION:voorganger: ds. Rik Bikker\n\n
ATTACH;FMTTYPE=image/jpeg:https://dehoeksteen-haren.nl/wp-content/uploads/
 2024/12/HS_uitgelichte_afbeelding.jpg
LOCATION:De Hoeksteen\, P. Wierengaweg 2\, Haren\, Groningen\, 9751 CN\, Ne
 therlands
X-APPLE-STRUCTURED-LOCATION;VALUE=URI;X-ADDRESS=P. Wierengaweg 2\, Haren\, 
 Groningen\, 9751 CN\, Netherlands;X-APPLE-RADIUS=100;X-TITLE=De Hoeksteen:
 geo:0,0
END:VEVENT
BEGIN:VTIMEZONE
TZID:Europe/Amsterdam
X-LIC-LOCATION:Europe/Amsterdam
BEGIN:STANDARD
DTSTART:20251026T020000
TZOFFSETFROM:+0200
TZOFFSETTO:+0100
TZNAME:CET
END:STANDARD
END:VTIMEZONE
END:VCALENDAR