BEGIN:VCALENDAR
VERSION:2.0
PRODID:-//wp-events-plugin.com//7.2.3.1//EN
BEGIN:VEVENT
UID:95@dehoeksteen-haren.nl
DTSTART;TZID=Europe/Amsterdam:20250220T193000
DTEND;TZID=Europe/Amsterdam:20250220T210000
DTSTAMP:20250217T191426Z
URL:https://dehoeksteen-haren.nl/en/agenda/bijbelcursus-7/
SUMMARY:GEEN Bijbelcursus
DESCRIPTION:In verband met de voorjaarsvakantie is er op donderdag 20 febru
 ari geen bijbelcursus.
ATTACH;FMTTYPE=image/jpeg:https://dehoeksteen-haren.nl/wp-content/uploads/
 2024/12/cursus_featured.jpg
END:VEVENT
BEGIN:VTIMEZONE
TZID:Europe/Amsterdam
X-LIC-LOCATION:Europe/Amsterdam
BEGIN:STANDARD
DTSTART:20241027T020000
TZOFFSETFROM:+0200
TZOFFSETTO:+0100
TZNAME:CET
END:STANDARD
END:VTIMEZONE
END:VCALENDAR