BEGIN:VCALENDAR
VERSION:2.0
PRODID:-//wp-events-plugin.com//7.2.3.1//EN
BEGIN:VEVENT
UID:87@dehoeksteen-haren.nl
DTSTART;TZID=Europe/Amsterdam:20241010T193000
DTEND;TZID=Europe/Amsterdam:20241010T210000
DTSTAMP:20241007T194251Z
URL:https://dehoeksteen-haren.nl/en/agenda/bijbelcursus-15/
SUMMARY:Bijbelcursus
DESCRIPTION:Cursusleiding: Rik Bikker\nVanaf 10 oktober om de twee weken op
  donderdag willen we tijd nemen om samen de Bijbel te ontdekken. Iedereen 
 welkom: gasten\, grensgangers en gelovigen. Ook jongeren en ouderen van ha
 rte welkom!\n\nSamen willen we ontdekken wat voor een boek de Bijbel is\, 
 wat de achtergronden zijn wat de boodschap van de Bijbel ons vandaag te ze
 ggen heeft.\n\nMateriaal: neem je Bijbel mee\, en als achtergrond gebruike
 n we https://ontdekdebijbel.nl
LOCATION:De Hoeksteen\, P. Wierengaweg 2\, Haren\, Groningen\, 9751 CN\, Ne
 therlands
GEO:0.000000;0.000000
X-APPLE-STRUCTURED-LOCATION;VALUE=URI;X-ADDRESS=P. Wierengaweg 2\, Haren\, 
 Groningen\, 9751 CN\, Netherlands;X-APPLE-RADIUS=100;X-TITLE=De Hoeksteen:
 geo:0.000000,0.000000
END:VEVENT
BEGIN:VTIMEZONE
TZID:Europe/Amsterdam
X-LIC-LOCATION:Europe/Amsterdam
BEGIN:DAYLIGHT
DTSTART:20240331T030000
TZOFFSETFROM:+0100
TZOFFSETTO:+0200
TZNAME:CEST
END:DAYLIGHT
END:VTIMEZONE
END:VCALENDAR