BEGIN:VCALENDAR
VERSION:2.0
PRODID:-//wp-events-plugin.com//7.2.3.1//EN
BEGIN:VEVENT
UID:92@dehoeksteen-haren.nl
DTSTART;TZID=Europe/Amsterdam:20250109T193000
DTEND;TZID=Europe/Amsterdam:20250109T210000
DTSTAMP:20250102T183305Z
URL:https://dehoeksteen-haren.nl/en/agenda/bijbelcursus-10/
SUMMARY:Bijbelcursus - gaat niet door
DESCRIPTION:In verband met studieverlof en voorbereiding van de volgende sy
 nodeweek eind januari gaat de cursusavond niet door.
ATTACH;FMTTYPE=image/jpeg:https://dehoeksteen-haren.nl/wp-content/uploads/
 2024/12/cursus_featured.jpg
END:VEVENT
BEGIN:VTIMEZONE
TZID:Europe/Amsterdam
X-LIC-LOCATION:Europe/Amsterdam
BEGIN:STANDARD
DTSTART:20241027T020000
TZOFFSETFROM:+0200
TZOFFSETTO:+0100
TZNAME:CET
END:STANDARD
END:VTIMEZONE
END:VCALENDAR