BEGIN:VCALENDAR
VERSION:2.0
PRODID:-//wp-events-plugin.com//7.2.3.1//EN
BEGIN:VEVENT
UID:244@dehoeksteen-haren.nl
DTSTART;TZID=Europe/Amsterdam:20241027T190000
DTEND;TZID=Europe/Amsterdam:20241027T203000
DTSTAMP:20241025T105214Z
URL:https://dehoeksteen-haren.nl/en/agenda/27-10-2024-avondddienst/
SUMMARY:27-10-2024 Avondddienst
DESCRIPTION:In deze vesperdienst gaan we aan slag met Lectio Divina de
LOCATION:De Hoeksteen - zaal 4\, P. Wierengaweg 2\, Haren\, Groningen\, 975
 1 CN\, Netherlands
X-APPLE-STRUCTURED-LOCATION;VALUE=URI;X-ADDRESS=P. Wierengaweg 2\, Haren\, 
 Groningen\, 9751 CN\, Netherlands;X-APPLE-RADIUS=100;X-TITLE=De Hoeksteen 
 - zaal 4:geo:0,0
END:VEVENT
BEGIN:VTIMEZONE
TZID:Europe/Amsterdam
X-LIC-LOCATION:Europe/Amsterdam
BEGIN:STANDARD
DTSTART:20241027T020000
TZOFFSETFROM:+0200
TZOFFSETTO:+0100
TZNAME:CET
END:STANDARD
END:VTIMEZONE
END:VCALENDAR