BEGIN:VCALENDAR
VERSION:2.0
PRODID:-//wp-events-plugin.com//7.2.3.1//EN
BEGIN:VEVENT
UID:464@dehoeksteen-haren.nl
DTSTART;TZID=Europe/Amsterdam:20251026T190000
DTEND;TZID=Europe/Amsterdam:20251026T203000
DTSTAMP:20251023T172830Z
URL:https://dehoeksteen-haren.nl/en/agenda/26-10-2025-avonddienst/
SUMMARY:26-10-2025 Avonddienst - cursus De weg volgen
DESCRIPTION:voorganger: Ds. Rik Bikker\n\n\n\nNB: Deze dienst wordt niet vi
 a Kerkdienstgemist uitgezonden.
ATTACH;FMTTYPE=image/jpeg:https://dehoeksteen-haren.nl/wp-content/uploads/
 2025/09/cursus-250-250.jpg
LOCATION:De Hoeksteen\, P.Wierengaweg 2\, Haren\, Groningen\, 9751 CN\, Net
 herlands
X-APPLE-STRUCTURED-LOCATION;VALUE=URI;X-ADDRESS=P.Wierengaweg 2\, Haren\, G
 roningen\, 9751 CN\, Netherlands;X-APPLE-RADIUS=100;X-TITLE=De Hoeksteen:g
 eo:0,0
END:VEVENT
BEGIN:VTIMEZONE
TZID:Europe/Amsterdam
X-LIC-LOCATION:Europe/Amsterdam
BEGIN:STANDARD
DTSTART:20251026T020000
TZOFFSETFROM:+0200
TZOFFSETTO:+0100
TZNAME:CET
END:STANDARD
END:VTIMEZONE
END:VCALENDAR