BEGIN:VCALENDAR
VERSION:2.0
PRODID:-//wp-events-plugin.com//7.2.3.1//EN
BEGIN:VEVENT
UID:515@dehoeksteen-haren.nl
DTSTART;TZID=Europe/Amsterdam:20251217T183000
DTEND;TZID=Europe/Amsterdam:20251217T210000
DTSTAMP:20250929T174810Z
URL:https://dehoeksteen-haren.nl/en/agenda/17-12-2025-harensamen/
SUMMARY:17-12-2025 HarenSamen - Leuke activiteit
DESCRIPTION:Leuke activiteit
ATTACH;FMTTYPE=image/jpeg:https://dehoeksteen-haren.nl/wp-content/uploads/
 2024/05/HarenSamenLogo-e1757955828771.png
END:VEVENT
BEGIN:VTIMEZONE
TZID:Europe/Amsterdam
X-LIC-LOCATION:Europe/Amsterdam
BEGIN:STANDARD
DTSTART:20251026T020000
TZOFFSETFROM:+0200
TZOFFSETTO:+0100
TZNAME:CET
END:STANDARD
END:VTIMEZONE
END:VCALENDAR