BEGIN:VCALENDAR
VERSION:2.0
PRODID:-//wp-events-plugin.com//7.2.3.1//EN
BEGIN:VEVENT
UID:508@dehoeksteen-haren.nl
DTSTART;TZID=Europe/Amsterdam:20251213T130000
DTEND;TZID=Europe/Amsterdam:20251213T170000
DTSTAMP:20250913T142147Z
URL:https://dehoeksteen-haren.nl/en/agenda/13-12-2025-wedstrijd-schaakclub
 -haren/
SUMMARY:13-12-2025 Wedstrijd Schaakclub Haren
DESCRIPTION:
ATTACH;FMTTYPE=image/jpeg:https://dehoeksteen-haren.nl/wp-content/uploads/
 2025/09/Logo-SCH-e1757769609342.jpg
LOCATION:De Hoeksteen - zaal 1/2\, P. Wierengaweg 2\, Haren\, Groningen\, 9
 751 CN\, Netherlands
X-APPLE-STRUCTURED-LOCATION;VALUE=URI;X-ADDRESS=P. Wierengaweg 2\, Haren\, 
 Groningen\, 9751 CN\, Netherlands;X-APPLE-RADIUS=100;X-TITLE=De Hoeksteen 
 - zaal 1/2:geo:0,0
END:VEVENT
BEGIN:VTIMEZONE
TZID:Europe/Amsterdam
X-LIC-LOCATION:Europe/Amsterdam
BEGIN:STANDARD
DTSTART:20251026T020000
TZOFFSETFROM:+0200
TZOFFSETTO:+0100
TZNAME:CET
END:STANDARD
END:VTIMEZONE
END:VCALENDAR