BEGIN:VCALENDAR
VERSION:2.0
PRODID:-//wp-events-plugin.com//7.2.3.1//EN
BEGIN:VEVENT
UID:479@dehoeksteen-haren.nl
DTSTART;TZID=Europe/Amsterdam:20251009T193000
DTEND;TZID=Europe/Amsterdam:20251009T220000
DTSTAMP:20250913T073611Z
URL:https://dehoeksteen-haren.nl/en/agenda/09-10-2025-cursus-de-weg-volgen
 /
SUMMARY:09-10-2025 Cursus 'De Weg volgen'
DESCRIPTION:Samen op zoek gaan naar een leven dicht bij Jezus. Wat betekent
  het om Hem te volgen\, en ook vervuld te zijn van Hem? Niet een cursus ov
 er wat moet\, maar wel heel praktisch over hoe je Hem steeds opnieuw kunt 
 ontdekken en ontvangen. We willen daarvoor samen het boek 'De Weg volgen' 
 van John Mark Comer gaan bespreken en oefenen.
ATTACH;FMTTYPE=image/jpeg:https://dehoeksteen-haren.nl/wp-content/uploads/
 2025/09/cursus-250-250.jpg
LOCATION:De Hoeksteen - zaal 1/2\, P. Wierengaweg 2\, Haren\, Groningen\, 9
 751 CN\, Netherlands
X-APPLE-STRUCTURED-LOCATION;VALUE=URI;X-ADDRESS=P. Wierengaweg 2\, Haren\, 
 Groningen\, 9751 CN\, Netherlands;X-APPLE-RADIUS=100;X-TITLE=De Hoeksteen 
 - zaal 1/2:geo:0,0
END:VEVENT
BEGIN:VTIMEZONE
TZID:Europe/Amsterdam
X-LIC-LOCATION:Europe/Amsterdam
BEGIN:DAYLIGHT
DTSTART:20250330T030000
TZOFFSETFROM:+0100
TZOFFSETTO:+0200
TZNAME:CEST
END:DAYLIGHT
END:VTIMEZONE
END:VCALENDAR