BEGIN:VCALENDAR
VERSION:2.0
PRODID:-//wp-events-plugin.com//7.2.3.1//EN
BEGIN:VEVENT
UID:693@dehoeksteen-haren.nl
DTSTART;TZID=Europe/Amsterdam:20260222T190000
DTEND;TZID=Europe/Amsterdam:20260222T200000
DTSTAMP:20260219T131532Z
URL:https://dehoeksteen-haren.nl/agenda/vesperdienst-22-februari-2026/
SUMMARY:Avonddienst / cursusavond 1 22 februari 2026
DESCRIPTION:voorganger: Rik Bikker.\n\nDe avonddienst wordt niet uitgezonde
 n.\n\n
ATTACH;FMTTYPE=image/jpeg:https://dehoeksteen-haren.nl/wp-content/uploads/
 2024/12/HS_uitgelichte_afbeelding.jpg
LOCATION:De Hoeksteen\, P. Wierengaweg 2\, Haren\, Groningen\, 9751 CN\, Ne
 derland
X-APPLE-STRUCTURED-LOCATION;VALUE=URI;X-ADDRESS=P. Wierengaweg 2\, Haren\, 
 Groningen\, 9751 CN\, Nederland;X-APPLE-RADIUS=100;X-TITLE=De Hoeksteen:ge
 o:0,0
END:VEVENT
BEGIN:VTIMEZONE
TZID:Europe/Amsterdam
X-LIC-LOCATION:Europe/Amsterdam
BEGIN:STANDARD
DTSTART:20251026T020000
TZOFFSETFROM:+0200
TZOFFSETTO:+0100
TZNAME:CET
END:STANDARD
END:VTIMEZONE
END:VCALENDAR