BEGIN:VCALENDAR
VERSION:2.0
PRODID:-//wp-events-plugin.com//7.2.3.1//EN
BEGIN:VEVENT
UID:716@dehoeksteen-haren.nl
DTSTART;TZID=Europe/Amsterdam:20260130T194500
DTEND;TZID=Europe/Amsterdam:20260130T223000
DTSTAMP:20260105T182540Z
URL:https://dehoeksteen-haren.nl/agenda/schaakclub-haren-7/
SUMMARY:Schaakclub Haren
DESCRIPTION:
ATTACH;FMTTYPE=image/jpeg:https://dehoeksteen-haren.nl/wp-content/uploads/
 2025/09/Logo-SCH-e1757769609342.jpg
LOCATION:De Hoeksteen - zaal 1\, P.Wierengaweg 2\, Haren\, Groningen\, 9751
  CN\, Nederland
X-APPLE-STRUCTURED-LOCATION;VALUE=URI;X-ADDRESS=P.Wierengaweg 2\, Haren\, G
 roningen\, 9751 CN\, Nederland;X-APPLE-RADIUS=100;X-TITLE=De Hoeksteen - z
 aal 1:geo:0,0
END:VEVENT
BEGIN:VTIMEZONE
TZID:Europe/Amsterdam
X-LIC-LOCATION:Europe/Amsterdam
BEGIN:STANDARD
DTSTART:20251026T020000
TZOFFSETFROM:+0200
TZOFFSETTO:+0100
TZNAME:CET
END:STANDARD
END:VTIMEZONE
END:VCALENDAR