BEGIN:VCALENDAR
VERSION:2.0
PRODID:-//wp-events-plugin.com//7.2.3.1//EN
BEGIN:VEVENT
UID:699@dehoeksteen-haren.nl
DTSTART;TZID=Europe/Amsterdam:20260329T100000
DTEND;TZID=Europe/Amsterdam:20260329T113000
DTSTAMP:20260326T185214Z
URL:https://dehoeksteen-haren.nl/agenda/morgendienst-29-maart-2026/
SUMMARY:Morgendienst 29 maart 2026
DESCRIPTION:voorganger: ds. Rik Bikker\n\n
ATTACH;FMTTYPE=image/jpeg:https://dehoeksteen-haren.nl/wp-content/uploads/
 2024/12/HS_uitgelichte_afbeelding.jpg
LOCATION:De Hoeksteen\, P. Wierengaweg 2\, Haren\, Groningen\, 9751 CN\, Ne
 derland
X-APPLE-STRUCTURED-LOCATION;VALUE=URI;X-ADDRESS=P. Wierengaweg 2\, Haren\, 
 Groningen\, 9751 CN\, Nederland;X-APPLE-RADIUS=100;X-TITLE=De Hoeksteen:ge
 o:0,0
END:VEVENT
BEGIN:VTIMEZONE
TZID:Europe/Amsterdam
X-LIC-LOCATION:Europe/Amsterdam
BEGIN:DAYLIGHT
DTSTART:20260329T030000
TZOFFSETFROM:+0100
TZOFFSETTO:+0200
TZNAME:CEST
END:DAYLIGHT
END:VTIMEZONE
END:VCALENDAR