BEGIN:VCALENDAR
VERSION:2.0
PRODID:-//wp-events-plugin.com//7.2.3.1//EN
BEGIN:VEVENT
UID:740@dehoeksteen-haren.nl
DTSTART;TZID=Europe/Amsterdam:20260107T190000
DTEND;TZID=Europe/Amsterdam:20260107T213000
DTSTAMP:20260105T193129Z
URL:https://dehoeksteen-haren.nl/agenda/haren-samen-4/
SUMMARY:Haren Samen
DESCRIPTION:
LOCATION:Ontmoetingskerk\, Sterremuurweg 4\, Haren\, Groningen\, 9753 AV\, 
 Nederland
X-APPLE-STRUCTURED-LOCATION;VALUE=URI;X-ADDRESS=Sterremuurweg 4\, Haren\, G
 roningen\, 9753 AV\, Nederland;X-APPLE-RADIUS=100;X-TITLE=Ontmoetingskerk:
 geo:0,0
END:VEVENT
BEGIN:VTIMEZONE
TZID:Europe/Amsterdam
X-LIC-LOCATION:Europe/Amsterdam
BEGIN:STANDARD
DTSTART:20251026T020000
TZOFFSETFROM:+0200
TZOFFSETTO:+0100
TZNAME:CET
END:STANDARD
END:VTIMEZONE
END:VCALENDAR