BEGIN:VCALENDAR
VERSION:2.0
PRODID:-//wp-events-plugin.com//7.2.3.1//EN
BEGIN:VEVENT
UID:738@dehoeksteen-haren.nl
DTSTART;TZID=Europe/Amsterdam:20260318T183000
DTEND;TZID=Europe/Amsterdam:20260318T210000
DTSTAMP:20260105T191713Z
URL:https://dehoeksteen-haren.nl/agenda/haren-samen-3/
SUMMARY:Haren Samen
DESCRIPTION:
LOCATION:De Hoeksteen\, P. Wierengaweg 2\, Haren\, Groningen\, 9751 CN\, Ne
 derland
X-APPLE-STRUCTURED-LOCATION;VALUE=URI;X-ADDRESS=P. Wierengaweg 2\, Haren\, 
 Groningen\, 9751 CN\, Nederland;X-APPLE-RADIUS=100;X-TITLE=De Hoeksteen:ge
 o:0,0
END:VEVENT
BEGIN:VTIMEZONE
TZID:Europe/Amsterdam
X-LIC-LOCATION:Europe/Amsterdam
BEGIN:STANDARD
DTSTART:20251026T020000
TZOFFSETFROM:+0200
TZOFFSETTO:+0100
TZNAME:CET
END:STANDARD
END:VTIMEZONE
END:VCALENDAR