BEGIN:VCALENDAR
VERSION:2.0
PRODID:-//wp-events-plugin.com//7.2.3.1//EN
BEGIN:VEVENT
UID:484@dehoeksteen-haren.nl
DTSTART;TZID=Europe/Amsterdam:20251001T200000
DTEND;TZID=Europe/Amsterdam:20251001T213000
DTSTAMP:20250913T075059Z
URL:https://dehoeksteen-haren.nl/agenda/gespreksserie-over-opvoeding/
SUMMARY:01-10-2025 Gespreksserie over opvoeding
DESCRIPTION:Ontmoetingen over Opvoeding &amp\; Seksualiteit\nSoms worstel j
 e als ouder met iets in de opvoeding en dan kom je in gesprek met een geme
 entelid en denk je: waarom hebben we het hier niet met elkaar over gehad? 
 Waarom delen we dit niet? Wat als we dit wel met elkaar delen en hierin wi
 jsheid van elkaar en van God mogen ontdekken?\nWe nodigen je van harte uit
  voor serie van vijf avonden\, Catharina Wolting zal deze avonden als gesp
 reksleider aanwezig zijn. Elke avond staat in het teken van ontmoeting\, d
 elen en samen ontdekken\, hoe we hoopvol kunnen opvoeden!\n\nPodcasts &amp
 \; thema’s\nElke avond luister je vooraf thuis naar één podcast van Mi
 chèle van Dusseldorp\, te beluisteren via Groot Nieuws Radio (en vaak ook
  via Spotify of Apple Podcasts). De thema’s per avond zijn:\n\n 	Opvoede
 n 0–4 jaar — basis van hechting\, vertrouwen en ontwikkeling. omny.fm\
 n 	Opvoeden 4–10 jaar — ontdekken wie je bent\, karaktervorming en ide
 ntiteit. PodchaserApple Podcasts\n 	Opvoeden 11–16 jaar — puberteit\, 
 ruimte geven\, baken zijn in turbulente jaren. Apple PodcastsPodchaser\n 	
 Opvoeden 16–25 jaar — loslaten\, begeleiden\, coachen richting zelfsta
 ndigheid. grootnieuwsradio.nlPodchaser\n 	Seksuele opvoeding — een compl
 ete aflevering over hoe we niet alleen risico’s vermijden\, maar ook de 
 schoonheid en betekenis van seksualiteit doorgeven. grootnieuwsradio.nlApp
 le Podcasts\n\nPraktische gegevens\nVoorbereiding: Luister vóór elke avo
 nd thuis naar de betreffende podcast via Groot Nieuws Radio of je favoriet
 e podcast-app (Spotify\, Apple Podcasts e.a.).\n\nJe bent ook welkom om é
 én avond mee te doen. Luister dan wel de voorafgaande podcasts thuis\, zo
 dat we niet in herhaling hoeven te treden en meteen de diepte in kunnen.\n
 \nWanneer:\nwoensdag 1 oktober\, van 20.00 tot 21.30 uur\nwoensdag 15 okto
 ber\, van 20.00 tot 21.30 uur\nwoensdag 29 oktober\, van 20.00 tot 21.30 u
 ur\nwoensdag 12 november\, van 20.00 tot 21.30 uur\nwoensdag 26 november\,
  van 20.00 tot 21.30 uur\n\nWaar: afhankelijk van het aantal deelnemers\, 
 bij iemand thuis of in de kerk.\nAanmelden of vragen? App Catharina Woltin
 g: 06-50486850.
ATTACH;FMTTYPE=image/jpeg:https://dehoeksteen-haren.nl/wp-content/uploads/
 2025/09/opvoeden_cursus.jpg
END:VEVENT
BEGIN:VTIMEZONE
TZID:Europe/Amsterdam
X-LIC-LOCATION:Europe/Amsterdam
BEGIN:DAYLIGHT
DTSTART:20250330T030000
TZOFFSETFROM:+0100
TZOFFSETTO:+0200
TZNAME:CEST
END:DAYLIGHT
END:VTIMEZONE
END:VCALENDAR