BEGIN:VCALENDAR
VERSION:2.0
PRODID:-//wp-events-plugin.com//7.2.3.1//EN
BEGIN:VEVENT
UID:527@dehoeksteen-haren.nl
DTSTART;TZID=Europe/Amsterdam:20251105T193000
DTEND;TZID=Europe/Amsterdam:20251105T203000
DTSTAMP:20251104T190428Z
URL:https://dehoeksteen-haren.nl/agenda/dankdag-dienst/
SUMMARY:Dankdag-dienst
DESCRIPTION:Voorganger: ds. Rik Bikker. De dienst wordt gehouden samen met 
 de Ontmoetingskerk in Haren.\n\nDe dienst is via deze link te volgen.
ATTACH;FMTTYPE=image/jpeg:https://dehoeksteen-haren.nl/wp-content/uploads/
 2024/12/ontm_kerk_uitgelicht.jpg
END:VEVENT
BEGIN:VTIMEZONE
TZID:Europe/Amsterdam
X-LIC-LOCATION:Europe/Amsterdam
BEGIN:STANDARD
DTSTART:20251026T020000
TZOFFSETFROM:+0200
TZOFFSETTO:+0100
TZNAME:CET
END:STANDARD
END:VTIMEZONE
END:VCALENDAR