BEGIN:VCALENDAR
VERSION:2.0
PRODID:-//wp-events-plugin.com//7.2.3.1//EN
BEGIN:VEVENT
UID:734@dehoeksteen-haren.nl
DTSTART;TZID=Europe/Amsterdam:20260327T000000
DTEND;TZID=Europe/Amsterdam:20260329T000000
DTSTAMP:20260105T191043Z
URL:https://dehoeksteen-haren.nl/agenda/connectweekend/
SUMMARY:Connectweekend
DESCRIPTION:
END:VEVENT
BEGIN:VTIMEZONE
TZID:Europe/Amsterdam
X-LIC-LOCATION:Europe/Amsterdam
BEGIN:STANDARD
DTSTART:20251026T020000
TZOFFSETFROM:+0200
TZOFFSETTO:+0100
TZNAME:CET
END:STANDARD
END:VTIMEZONE
END:VCALENDAR