BEGIN:VCALENDAR
VERSION:2.0
PRODID:-//wp-events-plugin.com//7.2.3.1//EN
BEGIN:VEVENT
UID:91@dehoeksteen-haren.nl
DTSTART;TZID=Europe/Amsterdam:20241212T193000
DTEND;TZID=Europe/Amsterdam:20241212T210000
DTSTAMP:20240919T180841Z
URL:https://dehoeksteen-haren.nl/agenda/bijbelcursus-11/
SUMMARY:Bijbelcursus
DESCRIPTION:Cursusleiding: Rik Bikker\nVanaf 10 oktober om de twee weken op
  donderdag willen we tijd nemen om samen de Bijbel te ontdekken. Iedereen 
 welkom: gasten\, grensgangers en gelovigen. Ook jongeren en ouderen van ha
 rte welkom!\n\nSamen willen we ontdekken wat voor een boek de Bijbel is\, 
 wat de achtergronden zijn wat de boodschap van de Bijbel ons vandaag te ze
 ggen heeft.\n\nMateriaal: neem je Bijbel mee\, en als achtergrond gebruike
 n we https://ontdekdebijbel.nl
END:VEVENT
BEGIN:VTIMEZONE
TZID:Europe/Amsterdam
X-LIC-LOCATION:Europe/Amsterdam
BEGIN:STANDARD
DTSTART:20241027T020000
TZOFFSETFROM:+0200
TZOFFSETTO:+0100
TZNAME:CET
END:STANDARD
END:VTIMEZONE
END:VCALENDAR