BEGIN:VCALENDAR
VERSION:2.0
PRODID:-//wp-events-plugin.com//7.2.3.1//EN
BEGIN:VEVENT
UID:493@dehoeksteen-haren.nl
DTSTART;TZID=Europe/Amsterdam:20250922T193000
DTEND;TZID=Europe/Amsterdam:20250922T214500
DTSTAMP:20250913T142521Z
URL:https://dehoeksteen-haren.nl/agenda/22-09-2025-gemeentevergadering/
SUMMARY:22-09-2025 Gemeentevergadering
DESCRIPTION:Agenda\n19.30 Inloop met koffie en thee\n19.45 Opening\n20.00 U
 pdate CGK-kerkverband\n20.15 LHBTI in De Hoeksteen\n21.00 Pauze\n21.15 Pre
 dikantsplaats\n21.45 Afsluiting en drankje
ATTACH;FMTTYPE=image/jpeg:https://dehoeksteen-haren.nl/wp-content/uploads/
 2024/06/mini_logo.jpg
LOCATION:De Hoeksteen - kerkzaal\, P. Wierengaweg 2\, Haren\, Groningen\, 9
 751 CN\, Nederland
X-APPLE-STRUCTURED-LOCATION;VALUE=URI;X-ADDRESS=P. Wierengaweg 2\, Haren\, 
 Groningen\, 9751 CN\, Nederland;X-APPLE-RADIUS=100;X-TITLE=De Hoeksteen - 
 kerkzaal:geo:0,0
END:VEVENT
BEGIN:VTIMEZONE
TZID:Europe/Amsterdam
X-LIC-LOCATION:Europe/Amsterdam
BEGIN:DAYLIGHT
DTSTART:20250330T030000
TZOFFSETFROM:+0100
TZOFFSETTO:+0200
TZNAME:CEST
END:DAYLIGHT
END:VTIMEZONE
END:VCALENDAR