BEGIN:VCALENDAR
VERSION:2.0
PRODID:-//wp-events-plugin.com//7.2.3.1//EN
BEGIN:VEVENT
UID:523@dehoeksteen-haren.nl
DTSTART;TZID=Europe/Amsterdam:20251110T194500
DTEND;TZID=Europe/Amsterdam:20251110T223000
DTSTAMP:20250915T180642Z
URL:https://dehoeksteen-haren.nl/agenda/10-11-2025-kerkenraad/
SUMMARY:10-11-2025 Kerkenraad
DESCRIPTION:
ATTACH;FMTTYPE=image/jpeg:https://dehoeksteen-haren.nl/wp-content/uploads/
 2024/06/9813-scaled-e1718302169929.jpg
LOCATION:De Hoeksteen - zaal 1/2\, P. Wierengaweg 2\, Haren\, Groningen\, 9
 751 CN\, Nederland
X-APPLE-STRUCTURED-LOCATION;VALUE=URI;X-ADDRESS=P. Wierengaweg 2\, Haren\, 
 Groningen\, 9751 CN\, Nederland;X-APPLE-RADIUS=100;X-TITLE=De Hoeksteen - 
 zaal 1/2:geo:0,0
END:VEVENT
BEGIN:VTIMEZONE
TZID:Europe/Amsterdam
X-LIC-LOCATION:Europe/Amsterdam
BEGIN:STANDARD
DTSTART:20251026T020000
TZOFFSETFROM:+0200
TZOFFSETTO:+0100
TZNAME:CET
END:STANDARD
END:VTIMEZONE
END:VCALENDAR