BEGIN:VCALENDAR
VERSION:2.0
PRODID:-//wp-events-plugin.com//7.2.3.1//EN
BEGIN:VEVENT
UID:499@dehoeksteen-haren.nl
DTSTART;TZID=Europe/Amsterdam:20251004T130000
DTEND;TZID=Europe/Amsterdam:20251004T170000
DTSTAMP:20250913T140814Z
URL:https://dehoeksteen-haren.nl/agenda/04-10-2025-wedstrijd-schaakclub-ha
 ren/
SUMMARY:04-10-2025 Wedstrijd Schaakclub Haren
DESCRIPTION:
ATTACH;FMTTYPE=image/jpeg:https://dehoeksteen-haren.nl/wp-content/uploads/
 2025/09/Logo-SCH-e1757769609342.jpg
LOCATION:De Hoeksteen - zaal 1/2\, P. Wierengaweg 2\, Haren\, Groningen\, 9
 751 CN\, Nederland
X-APPLE-STRUCTURED-LOCATION;VALUE=URI;X-ADDRESS=P. Wierengaweg 2\, Haren\, 
 Groningen\, 9751 CN\, Nederland;X-APPLE-RADIUS=100;X-TITLE=De Hoeksteen - 
 zaal 1/2:geo:0,0
END:VEVENT
BEGIN:VTIMEZONE
TZID:Europe/Amsterdam
X-LIC-LOCATION:Europe/Amsterdam
BEGIN:DAYLIGHT
DTSTART:20250330T030000
TZOFFSETFROM:+0100
TZOFFSETTO:+0200
TZNAME:CEST
END:DAYLIGHT
END:VTIMEZONE
END:VCALENDAR