BEGIN:VCALENDAR
VERSION:2.0
PRODID:-//wp-events-plugin.com//7.2.3.1//EN
BEGIN:VEVENT
UID:510@dehoeksteen-haren.nl
DTSTART;TZID=Europe/Amsterdam:20251001T190000
DTEND;TZID=Europe/Amsterdam:20251001T210000
DTSTAMP:20250929T174253Z
URL:https://dehoeksteen-haren.nl/agenda/01-10-2025-harensamen-2/
SUMMARY:01-10-2025 HarenSamen (OK)
DESCRIPTION:
ATTACH;FMTTYPE=image/jpeg:https://dehoeksteen-haren.nl/wp-content/uploads/
 2024/05/HarenSamenLogo-e1757955828771.png
LOCATION:Ontmoetingskerk\, Sterremuurweg 4\, Haren\, Groningen\, 9753 AV\, 
 Nederland
X-APPLE-STRUCTURED-LOCATION;VALUE=URI;X-ADDRESS=Sterremuurweg 4\, Haren\, G
 roningen\, 9753 AV\, Nederland;X-APPLE-RADIUS=100;X-TITLE=Ontmoetingskerk:
 geo:0,0
END:VEVENT
BEGIN:VTIMEZONE
TZID:Europe/Amsterdam
X-LIC-LOCATION:Europe/Amsterdam
BEGIN:DAYLIGHT
DTSTART:20250330T030000
TZOFFSETFROM:+0100
TZOFFSETTO:+0200
TZNAME:CEST
END:DAYLIGHT
END:VTIMEZONE
END:VCALENDAR